BEGIN:VCALENDAR
VERSION:2.0
PRODID:-//ChamberMaster//Event Calendar 2.0//EN
METHOD:PUBLISH
X-PUBLISHED-TTL:P3D
REFRESH-INTERVAL:P3D
CALSCALE:GREGORIAN
BEGIN:VEVENT
DTSTART:20170712T153000Z
DTEND:20170712T173000Z
X-MICROSOFT-CDO-ALLDAYEVENT:FALSE
SUMMARY:Networking Breakfast 3.0 - BJ's Restaurant & Brew House
DESCRIPTION:Networking Breakfast 3.0 at BJ's Restaurant & Brew House \n\nwith the Montebello Chamber\, Bell Gardens Chamber\, and the Pico Rivera Chamber of Commerce.
X-ALT-DESC;FMTTYPE=text/html:Networking Breakfast 3.0 at BJ&#39\;s Restaurant &amp\; Brew House&nbsp\;<br />\nwith the Montebello Chamber\, Bell Gardens Chamber\, and the Pico Rivera Chamber of Commerce.
LOCATION:BJ's Restaurant & Brew House 1716 Montebello Town Center Montebello\, CA 90640 (Registration in the interior of the Mall next to BJ's)
UID:e.1156.1541
SEQUENCE:3
DTSTAMP:20260419T130403Z
URL:https://www.montebellochamber.org/events/details/networking-breakfast-3-0-bj-s-restaurant-brew-house-1541
END:VEVENT

END:VCALENDAR
