BEGIN:VCALENDAR
VERSION:2.0
PRODID:-//ChamberMaster//Event Calendar 2.0//EN
METHOD:PUBLISH
X-PUBLISHED-TTL:P3D
REFRESH-INTERVAL:P3D
CALSCALE:GREGORIAN
BEGIN:VEVENT
DTSTART:20151209T153000Z
DTEND:20151209T173000Z
X-MICROSOFT-CDO-ALLDAYEVENT:FALSE
SUMMARY:Networking Breakfast 3.0 - Citadel Outlets
DESCRIPTION:Please join us for our Holiday Networking Breakfast 3.0\n\nBring your most creative Santa Hat Contest!\n\n\n\nHosted by The Citadel Outlets\n\n\n\nParticipating Chambers: Montebello Chamber of Commerce\, Bell Gardens Chamber of Commerce\, and Commerce Industrial Council Chamber of Commerce.
X-ALT-DESC;FMTTYPE=text/html:Please join us for our Holiday Networking Breakfast 3.0<br />\nBring your most creative <strong><span style="color:#FF0000\;">Santa Hat Contest!</span></strong><br />\n<br />\nHosted by The Citadel Outlets<br />\n<br />\nParticipating Chambers: Montebello Chamber of Commerce\, Bell Gardens Chamber of Commerce\, and Commerce Industrial Council Chamber of Commerce.
LOCATION:Citadel Outlets 100 Citadel Drive Commerce\, CA 90040
UID:e.1156.1432
SEQUENCE:3
DTSTAMP:20260419T170035Z
URL:https://www.montebellochamber.org/events/details/networking-breakfast-3-0-citadel-outlets-12-09-2015-1432
END:VEVENT

END:VCALENDAR
