BEGIN:VCALENDAR
VERSION:2.0
PRODID:-//ChamberMaster//Event Calendar 2.0//EN
METHOD:PUBLISH
X-PUBLISHED-TTL:P3D
REFRESH-INTERVAL:P3D
CALSCALE:GREGORIAN
BEGIN:VEVENT
DTSTART:20130313T143000Z
DTEND:20130313T163000Z
X-MICROSOFT-CDO-ALLDAYEVENT:FALSE
SUMMARY:Networking Breakfast 3.0 - Citadel Outlets Community Room
DESCRIPTION:Networking Breakfast 3.0\n\nCitadel Outlets Community Room\n\n(parking located in front of Calvin Klein)\n\n100 Citadel Drive\, Commerce\, CA\n\n\n\nFood Sponsored by Ruby's Diner\n\nCome to expand your professional connections\, build profitable relationships and get the opportunity to gather client referrals and leads.  Give your business and your morning a boost!\n\n\n\n"How To Brand Your Company Using Facebook"\n\n\n\nParticipating Chambers: Montebello Chamber of Commerce\, Pico Rivera Chamber of Commerce\, and Commerce Industrial Council Chamber of Commerce
X-ALT-DESC;FMTTYPE=text/html:<span style="color: rgb(0\, 128\, 0)\;"><strong>Networking Breakfast 3.0<br />\nCitadel Outlets Community Room</strong></span><br />\n(parking located in front of Calvin Klein)<br />\n100 Citadel Drive\, Commerce\, CA<br />\n<br />\n<strong>Food Sponsored by Ruby&#39\;s Diner</strong><br />\nCome to expand your professional connections\, build profitable relationships and get the opportunity to gather client referrals and leads.&nbsp\; Give your business and your morning a boost!<br />\n<br />\n<strong>&quot\;How To Brand Your Company Using Facebook&quot\;<br />\n<br />\n<span style="color: rgb(0\, 128\, 0)\;">Participating Chambers</span>: Montebello Chamber of Commerce\, Pico Rivera Chamber of Commerce\, and Commerce Industrial Council Chamber of Commerce</strong>
LOCATION:Citadel Outlets Community Room 100 Citadel Drive\, Commerce 323-888-1724 (parking located in front of Calvin Klein)
UID:e.1156.687
SEQUENCE:3
DTSTAMP:20260419T160303Z
URL:https://www.montebellochamber.org/events/details/networking-breakfast-3-0-citadel-outlets-community-room-03-13-2013-687
END:VEVENT

END:VCALENDAR
