BEGIN:VCALENDAR
VERSION:2.0
PRODID:-//ChamberMaster//Event Calendar 2.0//EN
METHOD:PUBLISH
X-PUBLISHED-TTL:P3D
REFRESH-INTERVAL:P3D
CALSCALE:GREGORIAN
BEGIN:VEVENT
DTSTART:20131113T153000Z
DTEND:20131113T173000Z
X-MICROSOFT-CDO-ALLDAYEVENT:FALSE
SUMMARY:Networking Breakfast 3.0 - Citadel Outlets Community Room
DESCRIPTION:Networking Breakfast 3.0\n\nCitadel Outlets Community Room (Parking located in front of Calvin Klein)\n\nFood Sponsored by Ruby's Diner\n\nCome to expand your professional connections\, build profitable relationships and get the opportunity to gather client referrals and leads.  Give your business and your morning a boost!\n\n\n\n"Giving Back Because It Matters"\n\nParticipating Service Clubs: Kiwanis International\, Lions International\, Rotary International and Soroptimist.
X-ALT-DESC;FMTTYPE=text/html:<strong><span style="color: rgb(0\, 128\, 0)\;">Networking Breakfast 3.0</span></strong><br />\nCitadel Outlets Community Room (Parking located in front of Calvin Klein)<br />\n<strong><span style="color: rgb(0\, 128\, 0)\;">Food Sponsored by Ruby&#39\;s Diner</span></strong><br />\nCome to expand your professional connections\, build profitable relationships and get the opportunity to gather client referrals and leads.&nbsp\; Give your business and your morning a boost!<br />\n<br />\n<strong>&quot\;Giving Back Because It Matters&quot\;<br />\n<span style="color: rgb(0\, 128\, 0)\;">Participating Service Clubs: </span><span style="color: rgb(0\, 0\, 0)\;">Kiwanis International\, Lions International\, Rotary International and Soroptimist.</span></strong><br />\n
LOCATION:Citadel Outlets Community Room (Parking located in front of Calvin Klein) 100 Citadel Drive Commerce\, CA (323)888-1724
UID:e.1156.959
SEQUENCE:3
DTSTAMP:20260419T220138Z
URL:https://www.montebellochamber.org/events/details/networking-breakfast-3-0-citadel-outlets-community-room-11-13-2013-959
END:VEVENT

END:VCALENDAR
