BEGIN:VCALENDAR
VERSION:2.0
PRODID:-//ChamberMaster//Event Calendar 2.0//EN
METHOD:PUBLISH
X-PUBLISHED-TTL:P3D
REFRESH-INTERVAL:P3D
CALSCALE:GREGORIAN
BEGIN:VEVENT
DTSTART:20170510T150000Z
DTEND:20170510T163000Z
X-MICROSOFT-CDO-ALLDAYEVENT:FALSE
SUMMARY:Networking Breakfast 3.0 - Crowne Plaza Hotel & Commerce Casino
DESCRIPTION:Networking Breakfast 3.0\n\nMontebello Chamber of Commerce\, Commerce Industrial Council Chamber\, and Bell Gardens Chamber of Commerce\, and Pico Rivera Chamber of Commerce.
X-ALT-DESC;FMTTYPE=text/html:<strong>Networking Breakfast 3.0</strong><br />\nMontebello Chamber of Commerce\, Commerce Industrial Council Chamber\, and Bell Gardens Chamber of Commerce\, and Pico Rivera Chamber of Commerce. &nbsp\;
LOCATION:Crowne Plaza Hotel and Resorts 6121 Telegraph Road Commerce\, CA 90040
UID:e.1156.1539
SEQUENCE:3
DTSTAMP:20260419T160318Z
URL:https://www.montebellochamber.org/events/details/networking-breakfast-3-0-crowne-plaza-hotel-commerce-casino-1539
END:VEVENT

END:VCALENDAR
