BEGIN:VCALENDAR
VERSION:2.0
PRODID:-//ChamberMaster//Event Calendar 2.0//EN
METHOD:PUBLISH
X-PUBLISHED-TTL:P3D
REFRESH-INTERVAL:P3D
CALSCALE:GREGORIAN
BEGIN:VEVENT
DTSTART:20141210T153000Z
DTEND:20141210T173000Z
X-MICROSOFT-CDO-ALLDAYEVENT:FALSE
SUMMARY:Networking Breakfast 3.0 - December 2014
DESCRIPTION:Come to expand your professional connections\, build profitable relationships and get the opportunity to gather client referrals and leads.\n\n\n\nGive your business and your morning a boost!  Be sure to bring plenty of business cards.
X-ALT-DESC;FMTTYPE=text/html:Come to expand your professional connections\, build profitable relationships and get the opportunity to gather client referrals and leads.<br />\n<br />\nGive your business and your morning a boost!&nbsp\; Be sure to bring plenty of business cards.<br />\n&nbsp\;
LOCATION:Citadel Outlets 100 Citadel Drive Commerce\, CA 90040 (Park near the Calvin Klein Store)
UID:e.1156.1130
SEQUENCE:3
DTSTAMP:20260419T130220Z
URL:https://www.montebellochamber.org/events/details/networking-breakfast-3-0-december-2014-12-10-2014-1130
END:VEVENT

END:VCALENDAR
