BEGIN:VCALENDAR
VERSION:2.0
PRODID:-//ChamberMaster//Event Calendar 2.0//EN
METHOD:PUBLISH
X-PUBLISHED-TTL:P3D
REFRESH-INTERVAL:P3D
CALSCALE:GREGORIAN
BEGIN:VEVENT
DTSTART:20121127T153000Z
DTEND:20121127T170000Z
X-MICROSOFT-CDO-ALLDAYEVENT:FALSE
SUMMARY:Networking Breakfast 3.0 - DoubleTree by Hilton Norwalk
DESCRIPTION:Networking Breakfast 3.0 - DoubleTree by Hilton\, Norwalk\n\n\n\nCome to expand your professional connections\, build profitable relationships and get the opportunity to gather client referrals and leads.\n\nGive your business and your morning a boost!
X-ALT-DESC;FMTTYPE=text/html:Networking Breakfast 3.0&nbsp\;- DoubleTree by Hilton\, Norwalk<br />\n<br />\nCome to expand your professional connections\, build profitable relationships and get the opportunity to gather client referrals and leads.<br />\nGive your business and your morning a boost!
LOCATION:DoubleTree by Hilton\, Norwalk 13111 Sycamore Dr.\, Norwalk\, CA 90650
UID:e.1156.669
SEQUENCE:3
DTSTAMP:20260419T231156Z
URL:https://www.montebellochamber.org/events/details/networking-breakfast-3-0-doubletree-by-hilton-norwalk-11-27-2012-669
END:VEVENT

END:VCALENDAR
