BEGIN:VCALENDAR
VERSION:2.0
PRODID:-//ChamberMaster//Event Calendar 2.0//EN
METHOD:PUBLISH
X-PUBLISHED-TTL:P3D
REFRESH-INTERVAL:P3D
CALSCALE:GREGORIAN
BEGIN:VEVENT
DTSTART:20150610T143000Z
DTEND:20150610T163000Z
X-MICROSOFT-CDO-ALLDAYEVENT:FALSE
SUMMARY:Networking Breakfast 3.0 - Doubletree Commerce
DESCRIPTION:Sponsored & Hosted by Doubletree Hotel Commerce\n\n\n\nCome to expand your professional connections\, build profitable relationships and get the opportunity to gather client referrals and leads. \n\n\n\nMontebello Chamber of Commerce\, Bell Gardens Chamber of Commerce\, and Commere Industrial Council Chamber of Commerce
X-ALT-DESC;FMTTYPE=text/html:<strong>Sponsored &amp\; Hosted by Doubletree Hotel Commerce</strong><br />\n<br />\nCome to expand your professional connections\, build profitable relationships and get the opportunity to gather client referrals and leads.&nbsp\;<br />\n<br />\n<strong>Montebello Chamber of Commerce\, Bell Gardens Chamber of Commerce\, and Commere Industrial Council Chamber of Commerce</strong>
LOCATION:Doubletree Hotel Commerce 5757 E. Telegraph Road Commerce\, CA 90040
UID:e.1156.1341
SEQUENCE:3
DTSTAMP:20260419T214339Z
URL:https://www.montebellochamber.org/events/details/networking-breakfast-3-0-doubletree-commerce-06-10-2015-1341
END:VEVENT

END:VCALENDAR
