BEGIN:VCALENDAR
VERSION:2.0
PRODID:-//ChamberMaster//Event Calendar 2.0//EN
METHOD:PUBLISH
X-PUBLISHED-TTL:P3D
REFRESH-INTERVAL:P3D
CALSCALE:GREGORIAN
BEGIN:VEVENT
DTSTART:20130612T140000Z
DTEND:20130612T163000Z
X-MICROSOFT-CDO-ALLDAYEVENT:FALSE
SUMMARY:Networking Breakfast 3.0 - Doubletree Commerce
DESCRIPTION:Networking Breakfast 3.0 - Sponsored by Doubletree by Hilton Commerce\n\n\n\nCome to expand your professional connections\, build profitable relationships and get the opportunity to gather client referrals and leads.  Give your business and morning a boost!\n\n\n\nParticipating Chambers: Montebello Chamber of Commerce\, Bell Gardens Chamber of Commerce\, and Commerce Industrial Council Chamber of Commerce.
X-ALT-DESC;FMTTYPE=text/html:<strong>Networking Breakfast 3.0 - Sponsored by Doubletree by Hilton Commerce</strong><br />\n<br />\nCome to expand your professional connections\, build profitable relationships and get the opportunity to gather client referrals and leads.&nbsp\; Give your business and morning a boost!<br />\n<br />\n<strong>Participating Chambers: Montebello Chamber of Commerce\, Bell Gardens Chamber of Commerce\, and Commerce Industrial Council Chamber of Commerce.</strong><br />\n&nbsp\;
LOCATION:Doubletree by Hilton Commerce 5757 Telegraph Road Commerce\, CA 90040
UID:e.1156.921
SEQUENCE:3
DTSTAMP:20260419T130159Z
URL:https://www.montebellochamber.org/events/details/networking-breakfast-3-0-doubletree-commerce-06-12-2013-921
END:VEVENT

END:VCALENDAR
