BEGIN:VCALENDAR
VERSION:2.0
PRODID:-//ChamberMaster//Event Calendar 2.0//EN
METHOD:PUBLISH
X-PUBLISHED-TTL:P3D
REFRESH-INTERVAL:P3D
CALSCALE:GREGORIAN
BEGIN:VEVENT
DTSTART:20170208T153000Z
DTEND:20170208T173000Z
X-MICROSOFT-CDO-ALLDAYEVENT:FALSE
SUMMARY:Networking Breakfast 3.0 - Doubletree Commerce
DESCRIPTION:Networking Breakfast - Doubletree by Hilton Hotel Commerce\n\n\n\nCo-Hosted by Montebello Chamber of Commerce\, Bell Gardens Chamber of Commerce and the Commerce Industrial Council Chamber of Commerce
X-ALT-DESC;FMTTYPE=text/html:Networking Breakfast - Doubletree by Hilton Hotel Commerce<br />\n<br />\nCo-Hosted by Montebello Chamber of Commerce\, Bell Gardens Chamber of Commerce and the Commerce Industrial Council Chamber of Commerce
LOCATION:Doubletree by Hilton Hotel Commerce 5757 Telegraph Road Commerce\, CA 90040
UID:e.1156.1528
SEQUENCE:3
DTSTAMP:20260419T143100Z
URL:https://www.montebellochamber.org/events/details/networking-breakfast-3-0-doubletree-commerce-1528
END:VEVENT

END:VCALENDAR
