BEGIN:VCALENDAR
VERSION:2.0
PRODID:-//ChamberMaster//Event Calendar 2.0//EN
METHOD:PUBLISH
X-PUBLISHED-TTL:P3D
REFRESH-INTERVAL:P3D
CALSCALE:GREGORIAN
BEGIN:VEVENT
DTSTART:20150408T143000Z
DTEND:20150408T160000Z
X-MICROSOFT-CDO-ALLDAYEVENT:FALSE
SUMMARY:Networking Breakfast 3.0 Doubletree Hotel Rosemead
DESCRIPTION:Come to expand your professional connections\, build profitable relationships and get the opportunity to gather client referrals and leads.  \n\n\n\nMontebello Chamber of Commerce & Commerce Industrial Council Chamber
X-ALT-DESC;FMTTYPE=text/html:<span style="font-size: 14px\;"><span style="font-family: arial\;"><span style="font-weight: bold\;">Come to expand your professional connections\, build profitable relationships and get the opportunity to gather client referrals and leads.&nbsp\; </span></span></span><br />\n<br />\n<strong>Montebello Chamber of Commerce &amp\; Commerce Industrial Council Chamber</strong><br />\n&nbsp\;
LOCATION:Doubletree Hotel Rosemead 888 Montebello Blvd. Rosemead\, CA
UID:e.1156.1340
SEQUENCE:3
DTSTAMP:20260419T185216Z
URL:https://www.montebellochamber.org/events/details/networking-breakfast-3-0-doubletree-hotel-rosemead-04-08-2015-1340
END:VEVENT

END:VCALENDAR
