BEGIN:VCALENDAR
VERSION:2.0
PRODID:-//ChamberMaster//Event Calendar 2.0//EN
METHOD:PUBLISH
X-PUBLISHED-TTL:P3D
REFRESH-INTERVAL:P3D
CALSCALE:GREGORIAN
BEGIN:VEVENT
DTSTART:20180613T150000Z
DTEND:20180613T163000Z
X-MICROSOFT-CDO-ALLDAYEVENT:FALSE
SUMMARY:Networking Breakfast 3.0 - Doubletree Rosemead
DESCRIPTION:Networking Breakfast 3.0 at the DoubleTree by Hilton Hotel Rosemead\n\nJoin the Montebello Chamber of Commerce\, Bell Gardens Chamber\, Pico Rivera Chamber\, and the Rosemead Chamber of Commerce!
X-ALT-DESC;FMTTYPE=text/html:Networking Breakfast 3.0 at the DoubleTree by Hilton Hotel Rosemead<br />\nJoin the Montebello Chamber of Commerce\, Bell Gardens Chamber\, Pico Rivera Chamber\, and the Rosemead&nbsp\;Chamber of Commerce!
LOCATION:DoubleTree by Hilton Hotel Rosemead 888 Montebello Blvd. Rosemead\, CA 91770
UID:e.1156.2567
SEQUENCE:3
DTSTAMP:20260419T172453Z
URL:https://www.montebellochamber.org/events/details/networking-breakfast-3-0-doubletree-rosemead-2567
END:VEVENT

END:VCALENDAR
