BEGIN:VCALENDAR
VERSION:2.0
PRODID:-//ChamberMaster//Event Calendar 2.0//EN
METHOD:PUBLISH
X-PUBLISHED-TTL:P3D
REFRESH-INTERVAL:P3D
CALSCALE:GREGORIAN
BEGIN:VEVENT
DTSTART:20120411T143000Z
DTEND:20120411T163000Z
X-MICROSOFT-CDO-ALLDAYEVENT:FALSE
SUMMARY:Networking Breakfast 3.0 HomeTown Buffet
DESCRIPTION:Come to expand your professional connections\, build profitable relationships and get the opportunity to gather client referrals and leads.\n\nGive your business and your morning a boost!\n\n\n\nBe sure to bring plenty of business cards!
X-ALT-DESC;FMTTYPE=text/html:Come to expand your professional connections\, build profitable relationships and get the opportunity to gather client referrals and leads.<br />\nGive your business and your morning a boost!<br />\n<br />\nBe sure to bring plenty of business cards!
LOCATION:HomeTown Buffet 875 N. Wilcox Ave. Montebello\, CA 90640 (323)888-2823
UID:e.1156.425
SEQUENCE:3
DTSTAMP:20260420T095544Z
URL:https://www.montebellochamber.org/events/details/networking-breakfast-3-0-hometown-buffet-04-11-2012-425
END:VEVENT

END:VCALENDAR
