BEGIN:VCALENDAR
VERSION:2.0
PRODID:-//ChamberMaster//Event Calendar 2.0//EN
METHOD:PUBLISH
X-PUBLISHED-TTL:P3D
REFRESH-INTERVAL:P3D
CALSCALE:GREGORIAN
BEGIN:VEVENT
DTSTART:20130410T140000Z
DTEND:20130410T163000Z
X-MICROSOFT-CDO-ALLDAYEVENT:FALSE
SUMMARY:Networking Breakfast 3.0 - Hosted by Elks Lodge No. 2051
DESCRIPTION:Networking Breakfast 3.0\n\nCome to expand your professional connections\, build profitable relationships and get the opportunity to gather client referrals and leads.  Give your business and your morning a boost!\n\n\n\nParticipating Chambers: \n\nMontebello Chamber of Commerce\, East Los Angeles Chamber of Commerce\, and Commerce Industrial Council Chamber of Commerce\n\n\n\nHosted by Elks Lodge No. 2051 & Food Sponsored by Rudy's Baja Grill
X-ALT-DESC;FMTTYPE=text/html:<strong>Networking Breakfast 3.0</strong><br />\nCome to expand your professional connections\, build profitable relationships and get the opportunity to gather client referrals and leads.&nbsp\; Give your business and your morning a boost!<br />\n<br />\n<strong>Participating Chambers: </strong><br />\nMontebello Chamber of Commerce\, East Los Angeles Chamber of Commerce\, and Commerce Industrial Council Chamber of Commerce<br />\n<br />\n<strong>Hosted by <span style="color: rgb(0\, 128\, 0)\;">Elks Lodge No. 2051 </span>&amp\; Food Sponsored by <span style="color: rgb(178\, 34\, 34)\;">Rudy&#39\;s Baja Grill</span></strong>
LOCATION:Elks Lodge No. 2051 506 W. Whittier Blvd. Montebello\, CA 90640
UID:e.1156.692
SEQUENCE:3
DTSTAMP:20260419T160319Z
URL:https://www.montebellochamber.org/events/details/networking-breakfast-3-0-hosted-by-elks-lodge-no-2051-04-10-2013-692
END:VEVENT

END:VCALENDAR
