BEGIN:VCALENDAR
VERSION:2.0
PRODID:-//ChamberMaster//Event Calendar 2.0//EN
METHOD:PUBLISH
X-PUBLISHED-TTL:P3D
REFRESH-INTERVAL:P3D
CALSCALE:GREGORIAN
BEGIN:VEVENT
DTSTART:20140212T153000Z
DTEND:20140212T173000Z
X-MICROSOFT-CDO-ALLDAYEVENT:FALSE
SUMMARY:Networking Breakfast 3.0 - Marie Callendars
DESCRIPTION:February Networking Breakfast 3.0!\n\nLeads VS Referrals! What's the Difference?\n\nCome have the opportunity to gather client referrals and leads from other businesses around the community. Expand you professional connections!
X-ALT-DESC;FMTTYPE=text/html:February Networking Breakfast 3.0!<br />\nLeads VS Referrals! What&#39\;s&nbsp\;the Difference?<br />\nCome have the opportunity to gather client referrals and leads from other businesses around the community. Expand you professional connections!
LOCATION:Marie Callendar's 1825 Montebello Town Center\, Montebello Ca\, 90640
UID:e.1156.969
SEQUENCE:3
DTSTAMP:20260419T185952Z
URL:https://www.montebellochamber.org/events/details/networking-breakfast-3-0-marie-callendars-02-12-2014-969
END:VEVENT

END:VCALENDAR
