BEGIN:VCALENDAR
VERSION:2.0
PRODID:-//ChamberMaster//Event Calendar 2.0//EN
METHOD:PUBLISH
X-PUBLISHED-TTL:P3D
REFRESH-INTERVAL:P3D
CALSCALE:GREGORIAN
BEGIN:VEVENT
DTSTART:20130911T143000Z
DTEND:20130911T163000Z
X-MICROSOFT-CDO-ALLDAYEVENT:FALSE
SUMMARY:Networking Breakfast 3.0 - Orbit Event Rentals
DESCRIPTION:Networking Breakfast 3.0 - at Orbit Event Rentals!\n\nCome to expand your professional connections\, build profitable relationships and get the opportunity to gather client referrals and leads. \n\nGive your business and your morning a boost!\n\n\n\nThank You Event Sponsors:\n\nCatering by Herach & Ara\n\nOrbit Event Rentals\n\n\n\n\n\nParticipating Chambers:\n\nCommerce Industrial Council Chamber of Commerce\, Montebello Chamber of Commerce\, La Habra Area Chamber of Commerce\, South Gate Chamber of Commerce
X-ALT-DESC;FMTTYPE=text/html:<strong>Networking Breakfast 3.0 - at Orbit Event Rentals</strong>!<br />\nCome to expand your professional connections\, build profitable relationships and get the opportunity to gather client referrals and leads.&nbsp\;<br />\nGive your business and your morning a boost!<br />\n<br />\n<strong>Thank You Event Sponsors:<br />\nCatering by Herach &amp\; Ara<br />\nOrbit Event Rentals</strong><br />\n<br />\n<br />\n<strong>Participating Chambers:</strong><br />\nCommerce Industrial Council Chamber of Commerce\, Montebello Chamber of Commerce\, La Habra Area Chamber of Commerce\, South Gate Chamber of Commerce
LOCATION:Orbit Event Rentals 12020 Rivera Road Santa Fe Springs\, CA 90670
UID:e.1156.944
SEQUENCE:3
DTSTAMP:20260419T185217Z
URL:https://www.montebellochamber.org/events/details/networking-breakfast-3-0-orbit-event-rentals-09-11-2013-944
END:VEVENT

END:VCALENDAR
