BEGIN:VCALENDAR
VERSION:2.0
PRODID:-//ChamberMaster//Event Calendar 2.0//EN
METHOD:PUBLISH
X-PUBLISHED-TTL:P3D
REFRESH-INTERVAL:P3D
CALSCALE:GREGORIAN
BEGIN:VEVENT
DTSTART:20121010T143000Z
DTEND:20121010T160000Z
X-MICROSOFT-CDO-ALLDAYEVENT:FALSE
SUMMARY:Networking Breakfast 3.0 - Ozzie's Diner Bar & Grill
DESCRIPTION:Join us in October for an energetic and business driven networking event.\n\n	\n\n	Our monthly networking breakfasts are an effective low cost marketing method to expand your professional connections\, build profitable relationships and get the opportunity to gather client referrals and leads.\n\n	\n\n	Register Today! 323-721-1153 or salvatrice@montebellochamber.org
X-ALT-DESC;FMTTYPE=text/html:<div style="color: gray\;">\n	<span style="color: rgb(0\, 0\, 0)\;">Join us in&nbsp\;October for an energetic and business driven networking event.<br />\n	<br />\n	Our monthly networking breakfasts are an effective low cost marketing method to expand your professional connections\, build profitable relationships and get the opportunity to gather client referrals and leads.</span><br />\n	<br />\n	<span style="color: rgb(0\, 0\, 0)\;">Register Today! 323-721-1153 or&nbsp\;salvatrice@montebellochamber.org</span><br />\n	<span _fck_bookmark="1" style="display: none\;">&nbsp\;</span></div>\n
LOCATION:Ozzie's Diner Bar & Grill 7780 E. Slauson Ave. Commerce\, CA 90040 323-726-0300
UID:e.1156.659
SEQUENCE:3
DTSTAMP:20260419T231322Z
URL:https://www.montebellochamber.org/events/details/networking-breakfast-3-0-ozzie-s-diner-bar-grill-10-10-2012-659
END:VEVENT

END:VCALENDAR
