BEGIN:VCALENDAR
VERSION:2.0
PRODID:-//ChamberMaster//Event Calendar 2.0//EN
METHOD:PUBLISH
X-PUBLISHED-TTL:P3D
REFRESH-INTERVAL:P3D
CALSCALE:GREGORIAN
BEGIN:VEVENT
DTSTART:20120912T143000Z
DTEND:20120912T163000Z
X-MICROSOFT-CDO-ALLDAYEVENT:FALSE
SUMMARY:Networking Breakfast 3.0 - Piccolo Mondo Cucina Italiana
DESCRIPTION:Join us in September for an energetic and business driven networking event.\n\n\n\nOur monthly networking breakfasts are an effective low cost marketing method to expand your professional connections\, build profitable relationships and get the opportunity to gather client referrals and leads.
X-ALT-DESC;FMTTYPE=text/html:Join us in September for an energetic and business driven networking event.<br />\n<br />\nOur monthly networking breakfasts are an effective low cost marketing method to expand your professional connections\, build profitable relationships and get the opportunity to gather client referrals and leads.
LOCATION:Piccolo Mondo Cucina Italiana 866 N. Garfield Avenue Montebello\, CA 90640
UID:e.1156.650
SEQUENCE:3
DTSTAMP:20260420T004747Z
URL:https://www.montebellochamber.org/events/details/networking-breakfast-3-0-piccolo-mondo-cucina-italiana-09-12-2012-650
END:VEVENT

END:VCALENDAR
