BEGIN:VCALENDAR
VERSION:2.0
PRODID:-//ChamberMaster//Event Calendar 2.0//EN
METHOD:PUBLISH
X-PUBLISHED-TTL:P3D
REFRESH-INTERVAL:P3D
CALSCALE:GREGORIAN
BEGIN:VEVENT
DTSTART:20180314T150000Z
DTEND:20180314T163000Z
X-MICROSOFT-CDO-ALLDAYEVENT:FALSE
SUMMARY:Networking Breakfast 3.0 Pico Rivera Municipal Golf Course
DESCRIPTION:Join the staff\, members and guests at our networking breakfast with THREE Chambers of Commerce--Montebello\, Bell Gardens\, Pico Rivera-- for a morning networking event featuring a full breakfast\, raffle prizes and more!  For extra exposure at the event or if you can't make it in person\, consider donating a prize for the morning's raffle!
X-ALT-DESC;FMTTYPE=text/html:Join the staff\, members and guests at our networking breakfast with THREE Chambers of Commerce--Montebello\, Bell Gardens\, Pico Rivera--&nbsp\;for a morning networking event featuring a full breakfast\, raffle prizes and more!&nbsp\; For extra exposure at the event or if you can&#39\;t make it in person\, consider donating a prize for the morning&#39\;s raffle!<br />\n&nbsp\;
LOCATION:Pico Rivera Municipal Golf Course 3260 Fairway Drive Pico Rivera\, CA 90660
UID:e.1156.2408
SEQUENCE:3
DTSTAMP:20260419T130324Z
URL:https://www.montebellochamber.org/events/details/networking-breakfast-3-0-pico-rivera-municipal-golf-course-2408
END:VEVENT

END:VCALENDAR
