BEGIN:VCALENDAR
VERSION:2.0
PRODID:-//ChamberMaster//Event Calendar 2.0//EN
METHOD:PUBLISH
X-PUBLISHED-TTL:P3D
REFRESH-INTERVAL:P3D
CALSCALE:GREGORIAN
BEGIN:VEVENT
DTSTART:20130213T153000Z
DTEND:20130213T173000Z
X-MICROSOFT-CDO-ALLDAYEVENT:FALSE
SUMMARY:Networking Breakfast 3.0 Polly's Pies Restaurant
DESCRIPTION:Networking Breakfast 3.0 at Polly's Pies Restaurant\n\n\n\nCome to expand your professional connections\, build profitable relationships and get the opportunity to gather client referrals and leads.  Give your business and your morning a boost!\n\n\n\nPolly's Pies Restaurant Host and Sponsor\n\n\n\nParticipating Chambers: Montebello Chamber of Commerce\, South Gate Chamber of Commerce\, Commerce Industrial Council
X-ALT-DESC;FMTTYPE=text/html:<strong>Networking Breakfast 3.0 at <span style="color: rgb(255\, 0\, 0)\;">Polly's Pies </span><span style="color: rgb(0\, 100\, 0)\;">Restaurant</span></strong><br>\n<br>\nCome to expand your professional connections\, build profitable relationships and get the opportunity to gather client referrals and leads.&nbsp\; Give your business and your morning a boost!<br>\n<br>\n<strong>Polly's Pies Restaurant</strong> <strong>Host and Sponsor<br>\n<br>\nParticipating Chambers: Montebello Chamber of Commerce\, South Gate Chamber of Commerce\, Commerce Industrial Council</strong>
LOCATION:Polly's Pies Restaurant 1322 Beverly Blvd.\, Montebello\, CA
UID:e.1156.684
SEQUENCE:3
DTSTAMP:20260419T173514Z
URL:https://www.montebellochamber.org/events/details/networking-breakfast-3-0-polly-s-pies-restaurant-02-13-2013-684
END:VEVENT

END:VCALENDAR
