BEGIN:VCALENDAR
VERSION:2.0
PRODID:-//ChamberMaster//Event Calendar 2.0//EN
METHOD:PUBLISH
X-PUBLISHED-TTL:P3D
REFRESH-INTERVAL:P3D
CALSCALE:GREGORIAN
BEGIN:VEVENT
DTSTART:20160210T153000Z
DTEND:20160210T173000Z
X-MICROSOFT-CDO-ALLDAYEVENT:FALSE
SUMMARY:Networking Breakfast 3.0 - Quiet Cannon
DESCRIPTION:Networking Breakfast 3.0 at The Quiet Cannon\n\nGive your morning a boost!
X-ALT-DESC;FMTTYPE=text/html:Networking Breakfast 3.0 at The Quiet Cannon<br />\nGive your morning a boost!
LOCATION:The Quiet Cannon 901 Via San Clemente Montebello\, CA 90640
UID:e.1156.1451
SEQUENCE:3
DTSTAMP:20260419T202251Z
URL:https://www.montebellochamber.org/events/details/networking-breakfast-3-0-quiet-cannon-02-10-2016-1451
END:VEVENT

END:VCALENDAR
