BEGIN:VCALENDAR
VERSION:2.0
PRODID:-//ChamberMaster//Event Calendar 2.0//EN
METHOD:PUBLISH
X-PUBLISHED-TTL:P3D
REFRESH-INTERVAL:P3D
CALSCALE:GREGORIAN
BEGIN:VEVENT
DTSTART:20120215T150000Z
DTEND:20120215T173000Z
X-MICROSOFT-CDO-ALLDAYEVENT:FALSE
SUMMARY:Networking Breakfast 3.0 - Rosemead
DESCRIPTION:Join us this month for an energetic\, invigorating and business driven networking event.\n\n \n\nOur monthly networking breakfasts are an effective-low cost marketing method for developing sales opportunities. Recommendation and personal introductions are the added advantage\, helpful for developing business opportunities. \n\n \n\nGive your business and your morning a boost! Be sure to bring plenty of business cards!
X-ALT-DESC;FMTTYPE=text/html:<span style="font-size: 14px"><span style="font-family: arial">Join us&nbsp\;this month for an energetic\, invigorating and business driven networking event.<br />\n&nbsp\;<br />\nOur monthly networking breakfasts are an effective-low cost marketing method for developing sales opportunities. Recommendation and personal introductions are the added advantage\, helpful for developing business opportunities.&nbsp\;<br />\n&nbsp\;<br />\nGive your business and your morning a boost! Be sure to bring plenty of business cards!&nbsp\;</span></span><br />\n
LOCATION:DoubleTree by Hilton 888 Montebello Blvd. Rosemead\, Ca 90640
UID:e.1156.148
SEQUENCE:3
DTSTAMP:20260420T112626Z
URL:https://www.montebellochamber.org/events/details/networking-breakfast-3-0-rosemead-02-15-2012-148
END:VEVENT

END:VCALENDAR
