BEGIN:VCALENDAR
VERSION:2.0
PRODID:-//ChamberMaster//Event Calendar 2.0//EN
METHOD:PUBLISH
X-PUBLISHED-TTL:P3D
REFRESH-INTERVAL:P3D
CALSCALE:GREGORIAN
BEGIN:VEVENT
DTSTART:20150211T160000Z
DTEND:20150211T180000Z
X-MICROSOFT-CDO-ALLDAYEVENT:FALSE
SUMMARY:Networking Breakfast 3.0 Sponsored by BJ's Restaurant Brewhouse \, El Aviso & The Shops at Montebello
DESCRIPTION:Join the Commerce Industrial Council Chamber of Commerce and the Montebello Chamber of Commerce on Wednesday\, February 11\, 2015 at 8am for a presentation featuring speaker Richardo Gonzalez of El Aviso\, "Creating Advertising Campaigns that will Make Prospects Fall In Love with your Business"\n\n\n\nSponsored by BJ's Restaurant \,  Brewhouse & El Aviso\n\n\n\nLocation: BJ's Restaurant Brewhouse- Northwest of JC Penny\n\n1716 Montebello Town Center\, Montebello CA 90640
X-ALT-DESC;FMTTYPE=text/html:Join the Commerce Industrial Council Chamber of Commerce and the Montebello Chamber of Commerce on Wednesday\, February 11\, 2015 at 8am for a presentation featuring speaker <strong>Richardo Gonzalez of El Aviso\, &quot\;Creating Advertising Campaigns that will Make Prospects Fall In Love with your Business&quot\;</strong><br />\n<br />\n<strong>Sponsored by BJ&#39\;s Restaurant \,&nbsp\; Brewhouse &amp\; El Aviso</strong><br />\n<br />\nLocation: BJ&#39\;s Restaurant Brewhouse- Northwest of JC Penny<br />\n1716 Montebello Town Center\, Montebello CA 90640
LOCATION:
UID:e.1156.1339
SEQUENCE:3
DTSTAMP:20260419T160641Z
URL:https://www.montebellochamber.org/events/details/networking-breakfast-3-0-sponsored-by-bj-s-restaurant-brewhouse-el-aviso-the-shops-at-montebello-02-11-2015-1339
END:VEVENT

END:VCALENDAR
