BEGIN:VCALENDAR
VERSION:2.0
PRODID:-//ChamberMaster//Event Calendar 2.0//EN
METHOD:PUBLISH
X-PUBLISHED-TTL:P3D
REFRESH-INTERVAL:P3D
CALSCALE:GREGORIAN
BEGIN:VEVENT
DTSTART:20160113T153000Z
DTEND:20160113T173000Z
X-MICROSOFT-CDO-ALLDAYEVENT:FALSE
SUMMARY:Networking Breakfast 3.0 Stevens Steak and Seafood House
DESCRIPTION:Networking Breakfast 3.0 with Montebello\, Commerce\, and East Los Angeles Chambers of Commerce\n\nGive your business and morning a boost!  Come and make new contacts for the new year!
X-ALT-DESC;FMTTYPE=text/html:<span style="color: rgb(0\, 0\, 0)\;"><strong>Networking Breakfast 3.0 with Montebello\, Commerce\, and East Los Angeles Chambers of Commerce<br />\nGive your business and morning a boost!&nbsp\; Come and make new contacts for the new year!</strong></span><br />\n&nbsp\;
LOCATION:Stevens Steak and Seafood House 5332 Stevens Place Commerce\, CA 90040
UID:e.1156.1442
SEQUENCE:3
DTSTAMP:20260419T183501Z
URL:https://www.montebellochamber.org/events/details/networking-breakfast-3-0-stevens-steak-and-seafood-house-01-13-2016-1442
END:VEVENT

END:VCALENDAR
