BEGIN:VCALENDAR
VERSION:2.0
PRODID:-//ChamberMaster//Event Calendar 2.0//EN
METHOD:PUBLISH
X-PUBLISHED-TTL:P3D
REFRESH-INTERVAL:P3D
CALSCALE:GREGORIAN
BEGIN:VEVENT
DTSTART:20150114T153000Z
DTEND:20150114T173000Z
X-MICROSOFT-CDO-ALLDAYEVENT:FALSE
SUMMARY:Networking Breakfast 3.0 - Stevens Steak and Seafood House
DESCRIPTION:Networking Breakfast 3.0 \n\nSponsored and Hosted By:\n\nStevens Steak and Seafood House\n\n\n\nParticipating Chambers: Montebello Chamber of Commerce\, Commerce Industrial Chamber of Commerce\, and also including Alliance of Multicultural Entrepreneurs.
X-ALT-DESC;FMTTYPE=text/html:<span style="color: rgb(128\, 0\, 0)\;"><strong>Networking Breakfast 3.0 </strong></span><br />\n<em>Sponsored and Hosted By:</em><br />\n<strong><span style="color: rgb(128\, 0\, 0)\;">Stevens Steak and Seafood House</span><br />\n<br />\nParticipating Chambers: Montebello Chamber of Commerce\, Commerce Industrial Chamber of Commerce\, and also including Alliance of Multicultural Entrepreneurs.</strong>
LOCATION:Stevens Steak and Seafood House 5332 Stevens Place Commerce\, CA 90040
UID:e.1156.1338
SEQUENCE:3
DTSTAMP:20260419T143510Z
URL:https://www.montebellochamber.org/events/details/networking-breakfast-3-0-stevens-steak-and-seafood-house-01-14-2015-1338
END:VEVENT

END:VCALENDAR
