BEGIN:VCALENDAR
VERSION:2.0
PRODID:-//ChamberMaster//Event Calendar 2.0//EN
METHOD:PUBLISH
X-PUBLISHED-TTL:P3D
REFRESH-INTERVAL:P3D
CALSCALE:GREGORIAN
BEGIN:VEVENT
DTSTART:20170111T153000Z
DTEND:20170111T173000Z
X-MICROSOFT-CDO-ALLDAYEVENT:FALSE
SUMMARY:Networking Breakfast 3.0 - Stevens Steak & Seafood House
DESCRIPTION:Networking Breakfast 3.0 Stevens Steak & Seafood House\n\nParticipating Chambers: Montebello Chamber of Commerce\, Bell Gardens Chamber of Commerce and Commerce Industrial Council Chamber of Commerce.\n\nGuest Speaker: George Cassar from the Dale Carnegie Institute\n\nTopic "How To Start and Maintain a Conversation With Someone New"
X-ALT-DESC;FMTTYPE=text/html:Networking Breakfast 3.0 Stevens Steak &amp\; Seafood House<br />\nParticipating Chambers: Montebello Chamber of Commerce\, Bell Gardens Chamber of Commerce and Commerce Industrial Council Chamber of Commerce.<br />\nGuest Speaker: George Cassar from the Dale Carnegie Institute<br />\nTopic &quot\;How To Start and Maintain a Conversation With Someone New&quot\;
LOCATION:Stevens Steak and Seafood House 5332 Stevens Place Commerce\, CA 90040
UID:e.1156.1521
SEQUENCE:3
DTSTAMP:20260419T130322Z
URL:https://www.montebellochamber.org/events/details/networking-breakfast-3-0-stevens-steak-seafood-house-1521
END:VEVENT

END:VCALENDAR
