BEGIN:VCALENDAR
VERSION:2.0
PRODID:-//ChamberMaster//Event Calendar 2.0//EN
METHOD:PUBLISH
X-PUBLISHED-TTL:P3D
REFRESH-INTERVAL:P3D
CALSCALE:GREGORIAN
BEGIN:VEVENT
DTSTART:20181205T160000Z
DTEND:20181205T173000Z
X-MICROSOFT-CDO-ALLDAYEVENT:FALSE
SUMMARY:Networking Breakfast 3.0 - Stevens Steak & Seafood House
DESCRIPTION:Networking Breakfast at Stevens Steak & Seafood House!\n\nJoin the staff\, members and guests of FIVE Chambers of Commerce\, Montebello Chamber\, Commerce Industrial Council Chamber\, Bell Gardens Chamber\, and Pico Rivera Chamber\, and Rosemead Chamber  for a morning networking event featuring a full breakfast\, raffle prizes\, and presentation.
X-ALT-DESC;FMTTYPE=text/html:<span style="color: rgb(51\, 51\, 51)\; font-family: sans-serif\, Arial\, Verdana\, &quot\;Trebuchet MS&quot\;\; font-size: 13px\; background-color: rgb(255\, 255\, 255)\;">Networking Breakfast at Stevens Steak &amp\; Seafood House!<br />\nJoin the staff\, members and guests of FIVE Chambers of Commerce\, Montebello Chamber\, Commerce Industrial Council Chamber\, Bell Gardens Chamber\, and Pico Rivera Chamber\, and Rosemead Chamber&nbsp\; for a morning networking event featuring a full breakfast\, raffle prizes\, and presentation.</span>
LOCATION:Stevens Steak & Seafood House 5332 Stevens Place Commerce\, CA 90040
UID:e.1156.3104
SEQUENCE:3
DTSTAMP:20260419T130324Z
URL:https://www.montebellochamber.org/events/details/networking-breakfast-3-0-stevens-steak-seafood-house-3104
END:VEVENT

END:VCALENDAR
