BEGIN:VCALENDAR
VERSION:2.0
PRODID:-//ChamberMaster//Event Calendar 2.0//EN
METHOD:PUBLISH
X-PUBLISHED-TTL:P3D
REFRESH-INTERVAL:P3D
CALSCALE:GREGORIAN
BEGIN:VEVENT
DTSTART:20130814T143000Z
DTEND:20130814T163000Z
X-MICROSOFT-CDO-ALLDAYEVENT:FALSE
SUMMARY:Networking Breakfast 3.0 - The Shops at Montebello
DESCRIPTION:Join us!\n\nMontebello Chamber Networking Event!\n\nCome to expand your professional connections\, build profitable relationships and get the opportunity to gather client referrals and leads.  Give your business and your morning a boost.\n\n\n\nParticipating Chambers:\n\nMontebello Chamber of Commerce\n\nCommerce Industrial Council Chamber of Commerce\n\nMonterey Park Chamber of Commerce\n\nRosemead Chamber of Commerce
X-ALT-DESC;FMTTYPE=text/html:<strong>Join us!<br />\n<span style="color: rgb(0\, 0\, 205)\;">Montebello Chamber Networking Event!</span></strong><br />\nCome to expand your professional connections\, build profitable relationships and get the opportunity to gather client referrals and leads.&nbsp\; Give your business and your morning a boost.<br />\n<br />\n<strong><span style="color: rgb(0\, 0\, 205)\;">Participating Chambers:</span><br />\nMontebello Chamber of Commerce</strong><br />\n<strong>Commerce Industrial Council Chamber of Commerce<br />\nMonterey Park Chamber of Commerce<br />\nRosemead Chamber of Commerce</strong><br />\n
LOCATION:The Shops at Montebello (Entrance: Lower Level Mall Doors Near Hikari Japanese Restaurant) 2134 Montebello Town Center Dr. Montebello\, CA 90640
UID:e.1156.938
SEQUENCE:3
DTSTAMP:20260419T160225Z
URL:https://www.montebellochamber.org/events/details/networking-breakfast-3-0-the-shops-at-montebello-08-14-2013-938
END:VEVENT

END:VCALENDAR
