BEGIN:VCALENDAR
VERSION:2.0
PRODID:-//ChamberMaster//Event Calendar 2.0//EN
METHOD:PUBLISH
X-PUBLISHED-TTL:P3D
REFRESH-INTERVAL:P3D
CALSCALE:GREGORIAN
BEGIN:VEVENT
DTSTART:20160914T143000Z
DTEND:20160914T163000Z
X-MICROSOFT-CDO-ALLDAYEVENT:FALSE
SUMMARY:Networking Breakfast 3.0 - University of the West
DESCRIPTION:Networking Breakfast 3.0 \n\nCome give your morning a boost!
X-ALT-DESC;FMTTYPE=text/html:Networking Breakfast 3.0&nbsp\;<br />\nCome give your morning a boost!
LOCATION:University of the West 1409 Walnut Grove Ave. Rosemead\, CA 91770
UID:e.1156.1495
SEQUENCE:3
DTSTAMP:20260419T173616Z
URL:https://www.montebellochamber.org/events/details/networking-breakfast-3-0-university-of-the-west-09-14-2016-1495
END:VEVENT

END:VCALENDAR
