BEGIN:VCALENDAR
VERSION:2.0
PRODID:-//ChamberMaster//Event Calendar 2.0//EN
METHOD:PUBLISH
X-PUBLISHED-TTL:P3D
REFRESH-INTERVAL:P3D
CALSCALE:GREGORIAN
BEGIN:VEVENT
DTSTART:20180912T150000Z
DTEND:20180912T163000Z
X-MICROSOFT-CDO-ALLDAYEVENT:FALSE
SUMMARY:Networking Breakfast 3.0 University of the West
DESCRIPTION:Give your morning a boost with our Networking Breakfast at the University of the West with the Montebello Chamber\, Pico Rivera Chamber\, Bell Gardens Chamber\, and the Rosemead Chamber.
X-ALT-DESC;FMTTYPE=text/html:Give your morning a boost with our Networking Breakfast at the University of the West with the Montebello Chamber\, Pico Rivera Chamber\, Bell Gardens Chamber\, and the Rosemead Chamber.
LOCATION:University of the West 1409 Walnut Grove Ave. Rosemead\, CA 91770
UID:e.1156.2849
SEQUENCE:3
DTSTAMP:20260419T173447Z
URL:https://www.montebellochamber.org/events/details/networking-breakfast-3-0-university-of-the-west-2849
END:VEVENT

END:VCALENDAR
