BEGIN:VCALENDAR
VERSION:2.0
PRODID:-//ChamberMaster//Event Calendar 2.0//EN
METHOD:PUBLISH
X-PUBLISHED-TTL:P3D
REFRESH-INTERVAL:P3D
CALSCALE:GREGORIAN
BEGIN:VEVENT
DTSTART:20131009T140000Z
DTEND:20131009T163000Z
X-MICROSOFT-CDO-ALLDAYEVENT:FALSE
SUMMARY:Networking Breakfast at Hilton Garden Inn Montebello
DESCRIPTION:Networking Breakfast at Hilton Garden Inn\n\n\n\nCome give your morning a boost with Montebello Chamber of Commerce\, Commerce Industrial Council Chamber of Commerce\, and Monterey Park Chambers\, while networking and enjoying a delicious breakfast.
X-ALT-DESC;FMTTYPE=text/html:Networking Breakfast at Hilton Garden Inn<br />\n<br />\nCome give your morning a boost with Montebello Chamber of Commerce\, Commerce Industrial Council Chamber of Commerce\, and Monterey Park Chambers\, while networking and enjoying a delicious breakfast.<br />\n&nbsp\;
LOCATION:Hilton Garden Inn 801 N. Via San Clemente Montebello\, CA 90640
UID:e.1156.954
SEQUENCE:3
DTSTAMP:20260419T202647Z
URL:https://www.montebellochamber.org/events/details/networking-breakfast-at-hilton-garden-inn-montebello-10-09-2013-954
END:VEVENT

END:VCALENDAR
