BEGIN:VCALENDAR
VERSION:2.0
PRODID:-//ChamberMaster//Event Calendar 2.0//EN
METHOD:PUBLISH
X-PUBLISHED-TTL:P3D
REFRESH-INTERVAL:P3D
CALSCALE:GREGORIAN
BEGIN:VEVENT
DTSTART:20180530T190000Z
DTEND:20180530T200000Z
X-MICROSOFT-CDO-ALLDAYEVENT:FALSE
SUMMARY:Networking Luncheon
DESCRIPTION:Join the Montebello\, Pico Rivera and Bell Gardens Chambers of Commerce for this month's Networking @ Noon lunch located at The Hye Cuisine Restaurant located in the city of Montebello.\n\n\n\nGuest Speaker: \n\nShannon Horton\, Owner of Digital Faces\n\nShannon will be speaking about 3 ways to re-target your Facebook ads to lower your advertising cost while effectively converting your ads into closed sales!   \n\nDatabase:  Use your existing customer database to increase traffic to your store\, website\, and encourage your clients to become followers of your social media.\n\nVideos: Learn how people who watch more than 50% of your video can be retargeted to help increase sales. Targeting a customer who could be on the fence about using your product or service is a customer who is ready to buy. Redirecting your marketing strategy can help you convert the sale.  \n\nWebsite:  Have you ever wondered why certain ads pop up when shopping for a specific item? Learn how to apply this targeting strategy and apply it to your business.\n\nNetworking:  The best person to promote YOUR business is YOU!\n\nIn the professional world\, first impressions do matter. They can be the difference between you developing a new client or business lead or just another face in the crowd. Make sure you win them at "Hello" and mark your calendars for May 30th\, for our Networking @ Noon experience!
X-ALT-DESC;FMTTYPE=text/html:<p style="line-height:150%"><span style="font-size:10.5pt\;line-height:150%\;\nfont-family:&quot\;Arial&quot\;\,&quot\;sans-serif&quot\;">Join the Montebello\, Pico Rivera and Bell Gardens Chambers of Commerce for this month&rsquo\;s Networking @ Noon lunch located at The Hye Cuisine Restaurant located in the city of Montebello.<o:p></o:p><br />\n<br />\nGuest Speaker:&nbsp\;</span></p>\n\n<p style="line-height:150%"><span style="font-size:10.5pt\;line-height:150%\;\nfont-family:&quot\;Arial&quot\;\,&quot\;sans-serif&quot\;">Shannon Horton\, Owner of Digital Faces<o:p></o:p></span></p>\n\n<p style="line-height:150%"><span style="font-size:10.5pt\;line-height:150%\;\nfont-family:&quot\;Arial&quot\;\,&quot\;sans-serif&quot\;">Shannon will be speaking about 3 ways to re-target your Facebook ads to lower your advertising cost while effectively converting your ads into closed sales! &nbsp\;&nbsp\;<o:p></o:p></span></p>\n\n<p style="line-height:150%"><span style="font-size:10.5pt\;line-height:150%\;\nfont-family:&quot\;Arial&quot\;\,&quot\;sans-serif&quot\;">Database:&nbsp\; Use your existing customer database to increase traffic to your store\, website\, and encourage your clients to become followers of your social media.<o:p></o:p></span></p>\n\n<p style="line-height:150%"><span style="font-size:10.5pt\;line-height:150%\;\nfont-family:&quot\;Arial&quot\;\,&quot\;sans-serif&quot\;">Videos: Learn how people who watch more than 50% of your video can be retargeted to help increase sales. Targeting a customer who could be on the fence about using your product or service is a customer who is ready to buy. Redirecting your marketing strategy can help you convert the sale. &nbsp\;<o:p></o:p></span></p>\n\n<p style="line-height:150%"><span style="font-size:10.5pt\;line-height:150%\;\nfont-family:&quot\;Arial&quot\;\,&quot\;sans-serif&quot\;">Website:&nbsp\; Have you ever wondered why certain ads pop up when shopping for a specific item? Learn how to apply this targeting strategy and apply it to your business.<o:p></o:p></span></p>\n\n<p style="line-height:150%"><span style="font-size:10.5pt\;line-height:150%\;\nfont-family:&quot\;Arial&quot\;\,&quot\;sans-serif&quot\;">Networking:&nbsp\; The best person to promote YOUR business is YOU!<o:p></o:p></span></p>\n\n<p style="line-height:150%"><span style="font-size:10.5pt\;line-height:150%\;\nfont-family:&quot\;Arial&quot\;\,&quot\;sans-serif&quot\;">In the professional world\, first impressions do matter. They can be the difference between you developing a new client or business lead or just another face in the crowd. Make sure you win them at &ldquo\;Hello&rdquo\; and mark your calendars for May 30th\, for our Networking @ Noon experience!<o:p></o:p></span></p>\n
LOCATION:Hye Cuisine 2110 W. Whittier Blvd. Montebello\, CA 90640
UID:e.1156.2575
SEQUENCE:3
DTSTAMP:20260419T155909Z
URL:https://www.montebellochamber.org/events/details/networking-luncheon-2575
END:VEVENT

END:VCALENDAR
