BEGIN:VCALENDAR
VERSION:2.0
PRODID:-//ChamberMaster//Event Calendar 2.0//EN
METHOD:PUBLISH
X-PUBLISHED-TTL:P3D
REFRESH-INTERVAL:P3D
CALSCALE:GREGORIAN
BEGIN:VEVENT
DTSTART:20190427T180000Z
DTEND:20190427T220000Z
X-MICROSOFT-CDO-ALLDAYEVENT:FALSE
SUMMARY:New Townhomes Preview Event-BLVD Walk
DESCRIPTION:BLVD Walk-New Townhome Preview Event \n\nAttend our Preview Event and get all of the information you have been waiting for on BLVD Walk in Montebello.  Meet our Home Advisors\, Construction Manager\, Designers and Lenders to get all of your questions answered and find out how to be secure a place on the prioroity list!  We will have architectural plans\, landscape plans\, exterior renderings\, interior finish samples and pricing for you to preview.  BLVD Walk is a community of 28 brand new townhomes in Montebello built by Olson Homes.  BLVD Walk will offer up to 3 bedrooms and 3.5 baths in approximately 1\,309 to 1\,693 square feet.
X-ALT-DESC;FMTTYPE=text/html:BLVD Walk-New Townhome Preview Event&nbsp\;<br />\nAttend our Preview Event and get all of the information you have been waiting for on BLVD Walk in Montebello.&nbsp\; Meet our Home Advisors\, Construction Manager\, Designers and Lenders to get all of your questions answered and find out how to be secure a place on the prioroity list!&nbsp\; We will have architectural plans\, landscape plans\, exterior renderings\, interior finish samples and pricing for you to preview.&nbsp\; BLVD Walk is a community of 28 brand new townhomes in Montebello built by Olson Homes.&nbsp\; BLVD Walk will offer up to 3 bedrooms and 3.5 baths in approximately 1\,309 to 1\,693 square feet.&nbsp\;
LOCATION:BLVDWalk.com 114 N. 6th Street Montebello\, CA 90640 Refreshments will be served at Salvatore Restaurant (across the street) 125 N. 6th Street Montebello\, CA 90640
UID:e.1156.3296
SEQUENCE:3
DTSTAMP:20260419T173447Z
URL:https://www.montebellochamber.org/events/details/new-townhomes-preview-event-blvd-walk-3296
END:VEVENT

END:VCALENDAR
