BEGIN:VCALENDAR
VERSION:2.0
PRODID:-//ChamberMaster//Event Calendar 2.0//EN
METHOD:PUBLISH
X-PUBLISHED-TTL:P3D
REFRESH-INTERVAL:P3D
CALSCALE:GREGORIAN
BEGIN:VEVENT
DTSTART:20190101T040000Z
DTEND:20190101T100000Z
X-MICROSOFT-CDO-ALLDAYEVENT:FALSE
SUMMARY:New Year's Eve Party at Angry Horse Brewing
DESCRIPTION:Get excited\, because Angry Horse Brewing will be open until 2AM on New Years Eve! Come hang with us for a night of good music\, dancing and a Brut (IPA) toast at midnight. There is no cover and seating is first come\, first serve. If you plan on coming with a party of 6 or more\, please call in advance. Families are welcome until 10pm. After 10pm\, it is 21 and over. We'll also be having Flash Sale of East LA Cans from 4pm - 9pm that day. Get a 4 pack of cans for $9.99 (+tax). Thats $4.00 off!
X-ALT-DESC;FMTTYPE=text/html:<em><span style="background:white\;"><span style="color:#1D2129\;">Get excited\, because Angry Horse Brewing will be open until 2AM on New Years Eve! Come hang with us for a night of good music\, dancing and a Brut (IPA) toast at midnight.&nbsp\;</span></span><span style="caret-color:rgb(29\, 33\, 41)\;">There is no cover and seating is first come\, first serve. If you plan on coming with a party of 6 or more\, please call in advance. Families are welcome until 10pm. After 10pm\, it is 21 and over.&nbsp\;</span><span style="caret-color:rgb(29\, 33\, 41)\;">We&#39\;ll also be having Flash Sale of East LA Cans from 4pm - 9pm that day. Get a 4 pack of cans for $9.99 (+tax). Thats $4.00 off!</span></em><br />\n&nbsp\;
LOCATION:Angry Horse Brewing 603 W. Whittier Blvd. Montebello\, CA 90640
UID:e.1156.3135
SEQUENCE:3
DTSTAMP:20260419T143811Z
URL:https://www.montebellochamber.org/events/details/new-year-s-eve-party-at-angry-horse-brewing-3135
END:VEVENT

END:VCALENDAR
