BEGIN:VCALENDAR
VERSION:2.0
PRODID:-//ChamberMaster//Event Calendar 2.0//EN
METHOD:PUBLISH
X-PUBLISHED-TTL:P3D
REFRESH-INTERVAL:P3D
CALSCALE:GREGORIAN
BEGIN:VEVENT
DTSTART:20190608T180000Z
DTEND:20190608T220000Z
X-MICROSOFT-CDO-ALLDAYEVENT:FALSE
SUMMARY:NFL Celebrity Appearances @ Harry's Sports Memorabilia
DESCRIPTION:Harry's Dugout presents three NFL Celebrities:\n\n	Tim Brown\n	Baseball & football All-Star\, Bo Jackson\n	Marcus Allen
X-ALT-DESC;FMTTYPE=text/html:Harry&#39\;s Dugout presents three NFL Celebrities:\n<ul>\n	<li>Tim Brown</li>\n	<li>Baseball &amp\; football All-Star\, Bo Jackson</li>\n	<li>Marcus Allen</li>\n</ul>\n
LOCATION:Harry's Sports Memorabilia & Barber Shop 1435 N. Montebello Blvd. Montebello\, CA 90640
UID:e.1156.3318
SEQUENCE:3
DTSTAMP:20260419T130701Z
URL:https://www.montebellochamber.org/events/details/nfl-celebrity-appearances-harry-s-sports-memorabilia-3318
END:VEVENT

END:VCALENDAR
