BEGIN:VCALENDAR
VERSION:2.0
PRODID:-//ChamberMaster//Event Calendar 2.0//EN
METHOD:PUBLISH
X-PUBLISHED-TTL:P3D
REFRESH-INTERVAL:P3D
CALSCALE:GREGORIAN
BEGIN:VEVENT
DTSTART:20181213T200000Z
DTEND:20181213T213000Z
X-MICROSOFT-CDO-ALLDAYEVENT:FALSE
SUMMARY:Nichols Insurance Grand Re-Opening
DESCRIPTION:Nichols Insurance Grand Re-Opening \n\nCome and help us celebrate their new location with some refreshments and networking!\n\n**Member Exclusive**
X-ALT-DESC;FMTTYPE=text/html:Nichols Insurance Grand Re-Opening&nbsp\;<br />\nCome and help us celebrate their new location with some refreshments and networking!<br />\n**Member Exclusive**
LOCATION:Nichols Insurance 1493 N. Montebello Blvd. Suite M1 Montebello\, CA 90640
UID:e.1156.3123
SEQUENCE:3
DTSTAMP:20260419T143511Z
URL:https://www.montebellochamber.org/events/details/nichols-insurance-grand-re-opening-3123
END:VEVENT

END:VCALENDAR
