BEGIN:VCALENDAR
VERSION:2.0
PRODID:-//ChamberMaster//Event Calendar 2.0//EN
METHOD:PUBLISH
X-PUBLISHED-TTL:P3D
REFRESH-INTERVAL:P3D
CALSCALE:GREGORIAN
BEGIN:VEVENT
DTSTART:20190209T023000Z
DTEND:20190209T050000Z
X-MICROSOFT-CDO-ALLDAYEVENT:FALSE
SUMMARY:"Nights of Romance" Ladies' Sensual Dance Night
DESCRIPTION:Learn The Art of Romance !!!\n\nEach night we introduce a sensual dance form. Learn Belly\, Scarf \, Lap and Pole Dance.\nDemonstrations of adult products and FREE Samples...\n\nComplimentry Happy Hour Drinks and Munchies...\n\nLots of Prizes...
X-ALT-DESC;FMTTYPE=text/html:<div style="text-align:center"><span style="font-size:16px"><span style="color:#FF0000"><strong>Learn The Art of Romance !!!</strong></span></span><br>\nEach night we introduce a sensual dance form. Learn Belly\, Scarf \, Lap and Pole Dance.</div>\nDemonstrations of adult products and FREE Samples...<br>\nComplimentry Happy Hour Drinks and Munchies...<br>\nLots of Prizes...<br>\n&nbsp\;
LOCATION:Heavenly Choice 534 N. Montebello Blvd. Montebello\, CA 90640 323 728-2728
UID:e.1156.3197
SEQUENCE:3
DTSTAMP:20260419T130906Z
URL:https://www.montebellochamber.org/events/details/nights-of-romance-ladies-sensual-dance-night-02-08-2019-3197
END:VEVENT

END:VCALENDAR
