BEGIN:VCALENDAR
VERSION:2.0
PRODID:-//ChamberMaster//Event Calendar 2.0//EN
METHOD:PUBLISH
X-PUBLISHED-TTL:P3D
REFRESH-INTERVAL:P3D
CALSCALE:GREGORIAN
BEGIN:VEVENT
DTSTART:20191231T190000Z
DTEND:20191231T210000Z
X-MICROSOFT-CDO-ALLDAYEVENT:FALSE
SUMMARY:Noon Year's Eve Party
DESCRIPTION:Get your New Year's Eve started early with the Shops at Montebello in Center Court between 11am-1pm for a Noon Year's Eve party!\n\nRing in the New Year with a NOON balloon drop.\n\nEnjoy festive party favors\, music and giveaways!
X-ALT-DESC;FMTTYPE=text/html:<div class="mcd-event-description editor_output">\n<h3>Get your New Year&rsquo\;s Eve started early with the Shops at Montebello in Center Court between 11am-1pm for a Noon Year&rsquo\;s Eve party!</h3>\n\n<p>Ring in the New Year with a NOON balloon drop.</p>\n\n<p>Enjoy festive party favors\, music and giveaways!</p>\n</div>\n
LOCATION:The Shops at Montebello 2134 Montebello Town Center Drive Montebello\, CA 90640
UID:e.1156.3498
SEQUENCE:3
DTSTAMP:20260419T143224Z
URL:https://www.montebellochamber.org/events/details/noon-year-s-eve-party-3498
END:VEVENT

END:VCALENDAR
