BEGIN:VCALENDAR
VERSION:2.0
PRODID:-//ChamberMaster//Event Calendar 2.0//EN
METHOD:PUBLISH
X-PUBLISHED-TTL:P3D
REFRESH-INTERVAL:P3D
CALSCALE:GREGORIAN
BEGIN:VEVENT
DTSTART;VALUE=DATE:20200110
DTEND;VALUE=DATE:20200111
TRANSP:TRANSPARENT
X-MICROSOFT-CDO-ALLDAYEVENT:TRUE
SUMMARY:Nothing Bundt Cakes-Fundraiser
DESCRIPTION:FRIENDS IN DEED BENEFIT DAY...20% of sales will be donated to Friends in Deed\, dedicated to providing supportive services to meet basic human needs\, so the homeless and at-risk neighbors can rebuild their lives.
X-ALT-DESC;FMTTYPE=text/html:FRIENDS IN DEED BENEFIT DAY...20% of sales will be donated to Friends in Deed\, dedicated to providing supportive services to meet basic human needs\, so the homeless and at-risk neighbors can rebuild their lives.&nbsp\;
LOCATION:3628 Rosemead Blvd. Rosemead\, CA 91770
UID:e.1156.3554
SEQUENCE:3
DTSTAMP:20260419T130218Z
URL:https://www.montebellochamber.org/events/details/nothing-bundt-cakes-fundraiser-3554
END:VEVENT

END:VCALENDAR
