BEGIN:VCALENDAR
VERSION:2.0
PRODID:-//ChamberMaster//Event Calendar 2.0//EN
METHOD:PUBLISH
X-PUBLISHED-TTL:P3D
REFRESH-INTERVAL:P3D
CALSCALE:GREGORIAN
BEGIN:VEVENT
DTSTART:20200111T170000Z
DTEND:20200111T230000Z
X-MICROSOFT-CDO-ALLDAYEVENT:FALSE
SUMMARY:Nothing Bundt Cakes Grand Opening
DESCRIPTION:Celebrate the Grand Opening of the new Nothing Bundt Cakes bakery in Rosemead!\n\n	Free Bundlets to the first 50 Guests starting at 9:00 a.m.\n	Family Fun Event from 11:00 a.m. to 3:00 p.m. featuring face painting and abundant samples of delicious cakes
X-ALT-DESC;FMTTYPE=text/html:Celebrate the Grand Opening of the new Nothing Bundt Cakes bakery in Rosemead!\n<ul>\n	<li>Free Bundlets to the first 50 Guests starting at 9:00 a.m.</li>\n	<li>Family Fun Event from 11:00 a.m. to 3:00 p.m. featuring face painting and abundant samples of delicious cakes</li>\n</ul>\n
LOCATION:Nothing Bundt Cakes 3628 Rosemead Blvd. Rosemead\, CA 91770
UID:e.1156.3547
SEQUENCE:3
DTSTAMP:20260419T130404Z
URL:https://www.montebellochamber.org/events/details/nothing-bundt-cakes-grand-opening-3547
END:VEVENT

END:VCALENDAR
