BEGIN:VCALENDAR
VERSION:2.0
PRODID:-//ChamberMaster//Event Calendar 2.0//EN
METHOD:PUBLISH
X-PUBLISHED-TTL:P3D
REFRESH-INTERVAL:P3D
CALSCALE:GREGORIAN
BEGIN:VEVENT
DTSTART:20180930T000000Z
DTEND:20180930T050000Z
X-MICROSOFT-CDO-ALLDAYEVENT:FALSE
SUMMARY:Oktoberfest at the Adobe
DESCRIPTION:Montebello Historical Society presents\n\nOktoberfest at the Adobe\n\n\n\nWe love to support local history\, local businesses\, and the diverse cultures of Los Angeles! Join us for our 2nd Annual Fundraiser event: Oktoberfest at the Adobe! Craft beer provided by Angry Horse Brewing\; all beer proceeds will go to the Adobe's revitalization! Food available for purchase. The event is free\, and adults (21+) only please.\n\n \n\nRain does not cancel.\n\nCostumes admired but not required.\n\n*In the process of securing a vegeterian food option!*
X-ALT-DESC;FMTTYPE=text/html:<strong><span style="color:#800000\;">Montebello Historical Society presents</span><br />\nOktoberfest at the Adobe</strong><br />\n<br />\nWe love to support local history\, local businesses\, and the diverse cultures of Los Angeles! Join us for our 2nd Annual Fundraiser event: Oktoberfest at the Adobe! Craft beer provided by Angry Horse Brewing\; all beer proceeds will go to the Adobe&rsquo\;s revitalization! Food available for purchase. The event is free\, and adults (21+) only please.<br />\n&nbsp\;<br />\nRain does not cancel.<br />\nCostumes admired but not required.<br />\n*In the process of securing a vegeterian food option!*
LOCATION:Juan Matias Sanchez Adobe 946 Adobe Ave. Montebello\, CA 90640
UID:e.1156.2844
SEQUENCE:3
DTSTAMP:20260419T202150Z
URL:https://www.montebellochamber.org/events/details/oktoberfest-at-the-adobe-2844
END:VEVENT

END:VCALENDAR
