BEGIN:VCALENDAR
VERSION:2.0
PRODID:-//ChamberMaster//Event Calendar 2.0//EN
METHOD:PUBLISH
X-PUBLISHED-TTL:P3D
REFRESH-INTERVAL:P3D
CALSCALE:GREGORIAN
BEGIN:VEVENT
DTSTART:20190126T053000Z
DTEND:20190126T073000Z
X-MICROSOFT-CDO-ALLDAYEVENT:FALSE
SUMMARY:Old School Salsa Fridays
DESCRIPTION:Ssh Presents\n\nOld School Salsa Fridays with live bands are back at Stevens Steak and Seafood House Restaurant through Friday\, February 22nd with Chino Espinoza y Los Due os Del Son! Perfect night for dinner and dancing or any kind of celebration! Free and Valet parking available.
X-ALT-DESC;FMTTYPE=text/html:<a aria-describedby="u_4e_1" aria-owns="" data-hovercard="/ajax/hovercard/hovercard.php?id=543674422459143" href="https://www.facebook.com/stevensteakhouse/" id="js_1h0">Ssh Presents</a><br />\n<span>Old School Salsa Fridays with live bands are back at Stevens Steak and Seafood House Restaurant through Friday\, February 22nd with Chino Espinoza y Los Due&ntilde\;os Del Son! Perfect night for dinner and dancing or any kind of celebration! Free and Valet parking available.&nbsp\; </span><br />\n&nbsp\;
LOCATION:Steven's Steak and Seafood House 5332 Stevens Pl. Commerce\, CA 90040
UID:e.1156.3206
SEQUENCE:3
DTSTAMP:20260419T143131Z
URL:https://www.montebellochamber.org/events/details/old-school-salsa-fridays-3206
END:VEVENT

END:VCALENDAR
