BEGIN:VCALENDAR
VERSION:2.0
PRODID:-//ChamberMaster//Event Calendar 2.0//EN
METHOD:PUBLISH
X-PUBLISHED-TTL:P3D
REFRESH-INTERVAL:P3D
CALSCALE:GREGORIAN
BEGIN:VEVENT
DTSTART:20131116T190000Z
DTEND:20131117T000000Z
X-MICROSOFT-CDO-ALLDAYEVENT:FALSE
SUMMARY:Open House
DESCRIPTION:Join us for snacks\, prizes\, and fun at Montebello's newest boutique!\n\nSpecial discounts will be given on this day only.\n\nCome preview our exciting gift items too!
X-ALT-DESC;FMTTYPE=text/html:Join us for snacks\, prizes\, and fun at Montebello&#39\;s newest boutique!<br />\nSpecial discounts will be given on this day only.<br />\nCome preview our exciting gift items too!
LOCATION:1432 West Beverly Blvd Montebello\, 90640
UID:e.1156.960
SEQUENCE:3
DTSTAMP:20260419T202107Z
URL:https://www.montebellochamber.org/events/details/open-house-11-16-2013-960
END:VEVENT

END:VCALENDAR
