BEGIN:VCALENDAR
VERSION:2.0
PRODID:-//ChamberMaster//Event Calendar 2.0//EN
METHOD:PUBLISH
X-PUBLISHED-TTL:P3D
REFRESH-INTERVAL:P3D
CALSCALE:GREGORIAN
BEGIN:VEVENT
DTSTART:20180824T180000Z
DTEND:20180824T220000Z
X-MICROSOFT-CDO-ALLDAYEVENT:FALSE
SUMMARY:Open House - Funeraria Del Angel
DESCRIPTION:For Decades\, we have served families before\, during and after the loss of a loved one. Now\, we are proud to showcase our newly renovated facility to complement our existing services. Come join us as we welcome our community..
X-ALT-DESC;FMTTYPE=text/html:For Decades\, we have served families before\, during and after the loss of a loved one. Now\, we are proud to showcase our newly renovated facility to complement our existing services. Come join us as we welcome our community..
LOCATION:Funeraria Del Angel Mortuary 913 W. Whittier Blvd. Montebello\, CA 90640
UID:e.1156.2637
SEQUENCE:3
DTSTAMP:20260419T215439Z
URL:https://www.montebellochamber.org/events/details/open-house-funeraria-del-angel-2637
END:VEVENT

END:VCALENDAR
