BEGIN:VCALENDAR
VERSION:2.0
PRODID:-//ChamberMaster//Event Calendar 2.0//EN
METHOD:PUBLISH
X-PUBLISHED-TTL:P3D
REFRESH-INTERVAL:P3D
CALSCALE:GREGORIAN
BEGIN:VEVENT
DTSTART:20140611T013000Z
DTEND:20140611T013000Z
X-MICROSOFT-CDO-ALLDAYEVENT:FALSE
SUMMARY:Open House Railroad Grade Separation
DESCRIPTION:The City of Montebello will be hosting a series of Open House Meetings on the Railroad Grade Separation (on the Union Pacific Railroad line just South of Olympic Blvd.) on the following dates dates and locations\;\n\n\n\n\n\nJune 10\, 2014 at 6:30 PM at Applied Technology School 1200 W. Mines Avenue\n\n\n\nJune 12\, 2014 at 10:30 am  at Senior Citizen Center 115 South Taylor Avenue\n\n\n\nJune 12\, 2014 at 6:30pm at Applied Technology School 1200 W. Mines Avenue
X-ALT-DESC;FMTTYPE=text/html:<span style="font-family:arial\;">The City of Montebello will be hosting a series of Open House Meetings on the Railroad Grade Separation (on the Union Pacific Railroad line just South of Olympic Blvd.) on the following dates dates and locations\;</span><br>\n<br>\n<br>\nJune 10\, 2014 at 6:30 PM at Applied Technology School 1200 W. Mines Avenue<br>\n<br>\nJune 12\, 2014 at 10:30 am&nbsp\; at Senior Citizen Center 115 South Taylor Avenue<br>\n<br>\nJune 12\, 2014 at 6:30pm at Applied Technology School 1200 W. Mines Avenue\n<div _mce_style="font-size: 12pt\;" style="font-size: 12pt\;">&nbsp\;</div>\n
LOCATION:June 10\, 2014 at 6:30 PM at Applied Technology School 1200 W. Mines Avenue June 12\, 2014 at 10:30 am at Senior Citizen Center 115 South Taylor Avenue June 12\, 2014 at 6:30pm at Applied Technology School 1200 W. Mines Avenue
UID:e.1156.1008
SEQUENCE:3
DTSTAMP:20260419T130431Z
URL:https://www.montebellochamber.org/events/details/open-house-railroad-grade-separation-06-10-2014-1008
END:VEVENT

END:VCALENDAR
