BEGIN:VCALENDAR
VERSION:2.0
PRODID:-//ChamberMaster//Event Calendar 2.0//EN
METHOD:PUBLISH
X-PUBLISHED-TTL:P3D
REFRESH-INTERVAL:P3D
CALSCALE:GREGORIAN
BEGIN:VEVENT
DTSTART:20191115T000000Z
DTEND:20191115T020000Z
X-MICROSOFT-CDO-ALLDAYEVENT:FALSE
SUMMARY:Orbit Event Rentals Grand Opening (New Location)
DESCRIPTION:Orbit Event Rentals has re-located to a larger new location and will celebrate this milestone with a Grand Opening and Ribbon Cutting event! Fun\, food\, drinks\, and door prizes!
X-ALT-DESC;FMTTYPE=text/html:Orbit Event Rentals has re-located to a larger new location and will celebrate this milestone with a Grand Opening and Ribbon Cutting event! Fun\, food\, drinks\, and door prizes!
LOCATION:Orbit Event Rentals 9525 Sorensen Avenue Santa Fe Springs\, CA
UID:e.1156.3476
SEQUENCE:3
DTSTAMP:20260419T160302Z
URL:https://www.montebellochamber.org/events/details/orbit-event-rentals-grand-opening-new-location-3476
END:VEVENT

END:VCALENDAR
