BEGIN:VCALENDAR
VERSION:2.0
PRODID:-//ChamberMaster//Event Calendar 2.0//EN
METHOD:PUBLISH
X-PUBLISHED-TTL:P3D
REFRESH-INTERVAL:P3D
CALSCALE:GREGORIAN
BEGIN:VEVENT
DTSTART:20120328T183000Z
DTEND:20120328T213000Z
X-MICROSOFT-CDO-ALLDAYEVENT:FALSE
SUMMARY:Orbit Party Rentals Ribbon Cutting
DESCRIPTION:Join us for a Ribbon Cutting Ceremony at Orbit Part Rentals in celebrating their new warehouse. Orbit Party Rentals are the leaders for all your event needs.\n\n	\n\n	Come and network with fellow Chamber Members from Montebello\, Santa Fe Springs\, Whittier\, Pico Rivera\, and La Habra! Be sure to bring plenty of business cards and a winning smile. Remember: Building relationships\, builds business!\n\n	\n\n	Refreshments will be served!
X-ALT-DESC;FMTTYPE=text/html:<p>\n	<span style="font-size: 12px">Join us for a Ribbon Cutting&nbsp\;Ceremony&nbsp\;at Orbit Part Rentals in celebrating their new warehouse. Orbit Party Rentals are the leaders for all your event needs.<br />\n	<br />\n	Come and network with fellow&nbsp\;Chamber Members from Montebello\, Santa Fe Springs\, Whittier\, Pico Rivera\, and La Habra! Be sure to bring plenty of business cards and a winning smile. Remember: Building relationships\, builds business!<br />\n	<br />\n	Refreshments will be served!</span><br />\n	<br />\n	<br />\n	&nbsp\;</p>\n
LOCATION:Orbit Party Rentals 12020 Rivera Rd. Santa Fe Springs\, CA 90670
UID:e.1156.420
SEQUENCE:3
DTSTAMP:20260420T112839Z
URL:https://www.montebellochamber.org/events/details/orbit-party-rentals-ribbon-cutting-03-28-2012-420
END:VEVENT

END:VCALENDAR
