BEGIN:VCALENDAR
VERSION:2.0
PRODID:-//ChamberMaster//Event Calendar 2.0//EN
METHOD:PUBLISH
X-PUBLISHED-TTL:P3D
REFRESH-INTERVAL:P3D
CALSCALE:GREGORIAN
BEGIN:VEVENT
DTSTART;VALUE=DATE:20130426
DTEND;VALUE=DATE:20130429
TRANSP:TRANSPARENT
X-MICROSOFT-CDO-ALLDAYEVENT:TRUE
SUMMARY:Our Lady of MIraculous Medal School's 36th Annual Spring Carnival
DESCRIPTION:Please join us for our 36th Annual Spring Carnival.  Our event is well known throught the Montebello and Monterey Park community\, as well as surrounding cities within the Los Angeles County.  Be sure to visit us and enjoy some GREAT FOOD\, LIVE ENTERTAINMENT\, and of course FUN RIDES and GAMES for the entire family.\n\n\n\nIf you are a business and would like to advertise at our event\, please visit our website for more information and to obtain a copy of the Sponsor Information Packet and Application.  You can also contact Julie Patino\, Development Coordinator at (323) 722-4837 or j_patino@olmmschool.com.  Be a part of this wonderful school event\, our LARGEST FUNDRAISER of the year!\n\n\n\nWe hope to see you there!\n\n\n\n O.L.M.M. School\n\n"Building Catholic-Christian Leaders\, Disciplined Learners and Well-Rounded Individuals"\n\n"Catholic Education...An Advantage for Life!"
X-ALT-DESC;FMTTYPE=text/html:Please join us for our 36th Annual Spring Carnival.&nbsp\; Our event is well known throught the Montebello and Monterey Park community\, as well as surrounding cities within the Los Angeles County.&nbsp\; Be sure to visit us and enjoy some GREAT FOOD\, LIVE ENTERTAINMENT\, and of course FUN RIDES and GAMES for the entire family.<br />\n<br />\nIf you are a business and would like to advertise at our event\, please visit our website for more information and to obtain a copy of the Sponsor Information Packet and Application.&nbsp\; You can also contact Julie Patino\, Development Coordinator at (323) 722-4837 or j_patino@olmmschool.com.&nbsp\; Be a part of this wonderful school event\, our LARGEST FUNDRAISER of the year!<br />\n<br />\nWe hope to see you there!<br />\n<br />\n&nbsp\;O.L.M.M. School<br />\n&quot\;Building Catholic-Christian Leaders\, Disciplined Learners and Well-Rounded Individuals&quot\;<br />\n&quot\;Catholic Education...An Advantage for Life!&quot\;
LOCATION:840 N. Garfield Avenue (off the 60 Fwy./across from the Quiet Canon) Montebello\, CA 90640
UID:e.1156.686
SEQUENCE:3
DTSTAMP:20260419T160643Z
URL:https://www.montebellochamber.org/events/details/our-lady-of-miraculous-medal-school-s-36th-annual-spring-carnival-04-26-2013-686
END:VEVENT

END:VCALENDAR
