BEGIN:VCALENDAR
VERSION:2.0
PRODID:-//ChamberMaster//Event Calendar 2.0//EN
METHOD:PUBLISH
X-PUBLISHED-TTL:P3D
REFRESH-INTERVAL:P3D
CALSCALE:GREGORIAN
BEGIN:VEVENT
DTSTART:20190420T010000Z
DTEND:20190420T010000Z
X-MICROSOFT-CDO-ALLDAYEVENT:FALSE
SUMMARY:Paint Night at Little Dimples
DESCRIPTION:Paint Night at Little Dimples!
X-ALT-DESC;FMTTYPE=text/html:Paint Night at Little Dimples!&nbsp\;&nbsp\;
LOCATION:Little Dimples (indoor playground and cafe) 1415 N. Montebello Blvd. Montebello\, CA 90640
UID:e.1156.3290
SEQUENCE:3
DTSTAMP:20260419T143110Z
URL:https://www.montebellochamber.org/events/details/paint-night-at-little-dimples-3290
END:VEVENT

END:VCALENDAR
