BEGIN:VCALENDAR
VERSION:2.0
PRODID:-//ChamberMaster//Event Calendar 2.0//EN
METHOD:PUBLISH
X-PUBLISHED-TTL:P3D
REFRESH-INTERVAL:P3D
CALSCALE:GREGORIAN
BEGIN:VEVENT
DTSTART:20191024T003000Z
DTEND:20191024T023000Z
X-MICROSOFT-CDO-ALLDAYEVENT:FALSE
SUMMARY:Paint Night Fundraiser
DESCRIPTION:"Painting with a Purpose"\n\n\n\nGet your brushes ready for a\n\nPaint Night Fundraiser\n\n\n\nAlways wanted to paint like the masters do?
X-ALT-DESC;FMTTYPE=text/html:&quot\;Painting with a Purpose&quot\;<br />\n<br />\nGet your brushes ready for a<br />\nPaint Night Fundraiser<br />\n<br />\nAlways wanted to paint like the masters do?
LOCATION:Crepes & Grapes Cafe 6560 Greenleaf Ave. Whittier\, CA 90601
UID:e.1156.3462
SEQUENCE:3
DTSTAMP:20260422T142959Z
URL:https://www.montebellochamber.org/events/details/paint-night-fundraiser-3462
END:VEVENT

END:VCALENDAR
